BEGIN:VCALENDAR
VERSION:2.0
PRODID:-//wp-events-plugin.com//6.6.4.4//EN
TZID:Europe/Berlin
X-WR-TIMEZONE:Europe/Berlin
BEGIN:VEVENT
UID:284@qa.zur-alten-linde.de
DTSTART;TZID=Europe/Berlin:20240528T190000
DTEND;TZID=Europe/Berlin:20240528T210000
DTSTAMP:20240206T144508Z
URL:https://qa.zur-alten-linde.de/events/gesellenunterricht-2024-05-28/
SUMMARY:Gesellenunterricht - Zur alten Linde 
DESCRIPTION:
CATEGORIES:Zur alten Linde
LOCATION:Logenhaus Zur alten Linde\, Landgrafenstr. 170\, Dortmund\, Nordrh
 ein-Westfalen\, 44139\, Deutschland
X-APPLE-STRUCTURED-LOCATION;VALUE=URI;X-ADDRESS=Landgrafenstr. 170\, Dortmu
 nd\, Nordrhein-Westfalen\, 44139\, Deutschland;X-APPLE-RADIUS=100;X-TITLE=
 Logenhaus Zur alten Linde:geo:0,0
END:VEVENT
BEGIN:VEVENT
UID:285@qa.zur-alten-linde.de
DTSTART;TZID=Europe/Berlin:20240618T190000
DTEND;TZID=Europe/Berlin:20240618T210000
DTSTAMP:20240603T081251Z
URL:https://qa.zur-alten-linde.de/events/gesellenunterricht-2024-06-11/
SUMMARY:Gesellenunterricht - Zur alten Linde 
DESCRIPTION:
CATEGORIES:Zur alten Linde
LOCATION:Logenhaus Zur alten Linde\, Landgrafenstr. 170\, Dortmund\, Nordrh
 ein-Westfalen\, 44139\, Deutschland
X-APPLE-STRUCTURED-LOCATION;VALUE=URI;X-ADDRESS=Landgrafenstr. 170\, Dortmu
 nd\, Nordrhein-Westfalen\, 44139\, Deutschland;X-APPLE-RADIUS=100;X-TITLE=
 Logenhaus Zur alten Linde:geo:0,0
END:VEVENT
BEGIN:VEVENT
UID:286@qa.zur-alten-linde.de
DTSTART;TZID=Europe/Berlin:20240702T190000
DTEND;TZID=Europe/Berlin:20240702T210000
DTSTAMP:20240603T081328Z
URL:https://qa.zur-alten-linde.de/events/gesellenunterricht-2024-06-25/
SUMMARY:Gesellenunterricht - Zur alten Linde 
DESCRIPTION:
CATEGORIES:Zur alten Linde
LOCATION:Logenhaus Zur alten Linde\, Landgrafenstr. 170\, Dortmund\, Nordrh
 ein-Westfalen\, 44139\, Deutschland
X-APPLE-STRUCTURED-LOCATION;VALUE=URI;X-ADDRESS=Landgrafenstr. 170\, Dortmu
 nd\, Nordrhein-Westfalen\, 44139\, Deutschland;X-APPLE-RADIUS=100;X-TITLE=
 Logenhaus Zur alten Linde:geo:0,0
END:VEVENT
BEGIN:VEVENT
UID:406@qa.zur-alten-linde.de
DTSTART;TZID=Europe/Berlin:20240827T190000
DTEND;TZID=Europe/Berlin:20240827T203000
DTSTAMP:20240815T064718Z
URL:https://qa.zur-alten-linde.de/events/gesellenunterricht/
SUMMARY:Gesellenunterricht - Zur alten Linde 
DESCRIPTION:
CATEGORIES:Zur alten Linde
END:VEVENT
BEGIN:VEVENT
UID:407@qa.zur-alten-linde.de
DTSTART;TZID=Europe/Berlin:20240910T190000
DTEND;TZID=Europe/Berlin:20240910T203000
DTSTAMP:20240815T064718Z
URL:https://qa.zur-alten-linde.de/events/gesellenunterricht-2/
SUMMARY:Gesellenunterricht - Zur alten Linde 
DESCRIPTION:
CATEGORIES:Zur alten Linde
END:VEVENT
BEGIN:VEVENT
UID:408@qa.zur-alten-linde.de
DTSTART;TZID=Europe/Berlin:20240924T190000
DTEND;TZID=Europe/Berlin:20240924T203000
DTSTAMP:20240815T064718Z
URL:https://qa.zur-alten-linde.de/events/gesellenunterricht-3/
SUMMARY:Gesellenunterricht - Zur alten Linde 
DESCRIPTION:
CATEGORIES:Zur alten Linde
END:VEVENT
BEGIN:VEVENT
UID:409@qa.zur-alten-linde.de
DTSTART;TZID=Europe/Berlin:20241008T190000
DTEND;TZID=Europe/Berlin:20241008T203000
DTSTAMP:20240815T064718Z
URL:https://qa.zur-alten-linde.de/events/gesellenunterricht-4/
SUMMARY:Gesellenunterricht - Zur alten Linde 
DESCRIPTION:
CATEGORIES:Zur alten Linde
END:VEVENT
BEGIN:VEVENT
UID:410@qa.zur-alten-linde.de
DTSTART;TZID=Europe/Berlin:20241105T190000
DTEND;TZID=Europe/Berlin:20241105T203000
DTSTAMP:20240815T064718Z
URL:https://qa.zur-alten-linde.de/events/gesellenunterricht-5/
SUMMARY:Gesellenunterricht - Zur alten Linde 
DESCRIPTION:
CATEGORIES:Zur alten Linde
END:VEVENT
BEGIN:VEVENT
UID:411@qa.zur-alten-linde.de
DTSTART;TZID=Europe/Berlin:20241119T190000
DTEND;TZID=Europe/Berlin:20241119T203000
DTSTAMP:20240815T064718Z
URL:https://qa.zur-alten-linde.de/events/gesellenunterricht-6/
SUMMARY:Gesellenunterricht - Zur alten Linde 
DESCRIPTION:
CATEGORIES:Zur alten Linde
END:VEVENT
BEGIN:VEVENT
UID:412@qa.zur-alten-linde.de
DTSTART;TZID=Europe/Berlin:20241119T190000
DTEND;TZID=Europe/Berlin:20241119T203000
DTSTAMP:20240925T053011Z
URL:https://qa.zur-alten-linde.de/events/gesellenunterricht-7/
SUMMARY:Gesellenunterricht - Zur alten Linde 
DESCRIPTION:
CATEGORIES:Zur alten Linde
END:VEVENT
BEGIN:VTIMEZONE
TZID:Europe/Berlin
X-LIC-LOCATION:Europe/Berlin
BEGIN:DAYLIGHT
DTSTART:20240331T030000
TZOFFSETFROM:+0100
TZOFFSETTO:+0200
TZNAME:CEST
END:DAYLIGHT
BEGIN:STANDARD
DTSTART:20241027T020000
TZOFFSETFROM:+0200
TZOFFSETTO:+0100
TZNAME:CET
END:STANDARD
END:VTIMEZONE
END:VCALENDAR